BEGIN:VCALENDAR
VERSION:2.0
PRODID:-//AREQ secteur Louis-Fréchette - ECPv5.14.0.4//NONSGML v1.0//EN
CALSCALE:GREGORIAN
METHOD:PUBLISH
X-WR-CALNAME:AREQ secteur Louis-Fréchette
X-ORIGINAL-URL:https://louisfrechette.areq.lacsq.org
X-WR-CALDESC:évènements pour AREQ secteur Louis-Fréchette
BEGIN:VTIMEZONE
TZID:America/New_York
BEGIN:DAYLIGHT
TZOFFSETFROM:-0500
TZOFFSETTO:-0400
TZNAME:EDT
DTSTART:20260308T070000
END:DAYLIGHT
BEGIN:STANDARD
TZOFFSETFROM:-0400
TZOFFSETTO:-0500
TZNAME:EST
DTSTART:20261101T060000
END:STANDARD
END:VTIMEZONE
BEGIN:VEVENT
DTSTART;VALUE=DATE:20260827
DTEND;VALUE=DATE:20260828
DTSTAMP:20260421T112435
CREATED:20251121T185607Z
LAST-MODIFIED:20251121T185946Z
UID:20684-1787788800-1787875199@louisfrechette.areq.lacsq.org
SUMMARY:Parc des Chutes Montmorency
DESCRIPTION:Parc de la Chute Montmorency en autobus scolaire\, dîner\, télécabine\, visite guidée\nCoût à venir \nInfo : Claire Buteau 418-456-6759 ou  clairebuteau@hotmail.com
URL:https://louisfrechette.areq.lacsq.org/event/parc-des-chutes-montmorency/
ORGANIZER;CN="Claire%20Buteau":MAILTO:clairebuteau@hotmail.com
END:VEVENT
END:VCALENDAR