BEGIN:VCALENDAR
VERSION:2.0
PRODID:-//AREQ secteur Louis-Fréchette - ECPv5.14.0.4//NONSGML v1.0//EN
CALSCALE:GREGORIAN
METHOD:PUBLISH
X-WR-CALNAME:AREQ secteur Louis-Fréchette
X-ORIGINAL-URL:https://louisfrechette.areq.lacsq.org
X-WR-CALDESC:évènements pour AREQ secteur Louis-Fréchette
BEGIN:VTIMEZONE
TZID:America/New_York
BEGIN:DAYLIGHT
TZOFFSETFROM:-0500
TZOFFSETTO:-0400
TZNAME:EDT
DTSTART:20260308T070000
END:DAYLIGHT
BEGIN:STANDARD
TZOFFSETFROM:-0400
TZOFFSETTO:-0500
TZNAME:EST
DTSTART:20261101T060000
END:STANDARD
END:VTIMEZONE
BEGIN:VEVENT
DTSTART;VALUE=DATE:20260720
DTEND;VALUE=DATE:20260721
DTSTAMP:20260421T075844
CREATED:20251121T184525Z
LAST-MODIFIED:20251215T035444Z
UID:20669-1784505600-1784591999@louisfrechette.areq.lacsq.org
SUMMARY:Parc Marie-Victorin
DESCRIPTION:Parc Marie Victorin – visite guidée de Kingsey Falls (mosaïcultures)\nCoût : 169 $ \nInfo : Claire Buteau 418-456-6759 ou  clairebuteau@hotmail.com
URL:https://louisfrechette.areq.lacsq.org/event/parc-marie-victorin/
LOCATION:Parc Marie Victorin\, 385\, boul. Marie-Victorin\, Kingsey Falls\, Qc\, J0A 1B0\, Canada
END:VEVENT
END:VCALENDAR