BEGIN:VCALENDAR
VERSION:2.0
PRODID:-//AREQ secteur Louis-Fréchette - ECPv5.14.0.4//NONSGML v1.0//EN
CALSCALE:GREGORIAN
METHOD:PUBLISH
X-WR-CALNAME:AREQ secteur Louis-Fréchette
X-ORIGINAL-URL:https://louisfrechette.areq.lacsq.org
X-WR-CALDESC:évènements pour AREQ secteur Louis-Fréchette
BEGIN:VTIMEZONE
TZID:America/New_York
BEGIN:DAYLIGHT
TZOFFSETFROM:-0500
TZOFFSETTO:-0400
TZNAME:EDT
DTSTART:20260308T070000
END:DAYLIGHT
BEGIN:STANDARD
TZOFFSETFROM:-0400
TZOFFSETTO:-0500
TZNAME:EST
DTSTART:20261101T060000
END:STANDARD
END:VTIMEZONE
BEGIN:VEVENT
DTSTART;TZID=America/New_York:20260416T073000
DTEND;TZID=America/New_York:20260416T073000
DTSTAMP:20260421T043120
CREATED:20251022T223902Z
LAST-MODIFIED:20260417T021122Z
UID:20369-1776324600-1776324600@louisfrechette.areq.lacsq.org
SUMMARY:Visite du Parlement de Québec
DESCRIPTION:
URL:https://louisfrechette.areq.lacsq.org/event/visite-du-parlement-de-quebec/
LOCATION:Parlement de Québec\, 1045\, rue des Parlementaires\, Québec\, Qc\, G1A 1A3\, Canada
END:VEVENT
END:VCALENDAR